BEGIN:VCALENDAR
VERSION:2.0
PRODID:-//eventon.com NONSGML v1.0//EN
CALSCALE:GREGORIAN
METHOD:PUBLISH
BEGIN:VEVENT
UID:69ea66d86a8b5
DTSTAMP:20260423T183712Z
DTSTART:20260516T130000Z
DTEND:20260516T150000Z
LOCATION:
SUMMARY:Tauschtag
DESCRIPTION:Tauschtag\nhttps://hammer-briefmarkenfreunde.de/events/2026-05-
 16-tauschtag/
URL:https://hammer-briefmarkenfreunde.de/events/2026-05-16-tauschtag/
END:VEVENT
END:VCALENDAR